BEGIN:VCALENDAR
VERSION:2.0
PRODID:-//Auric Connect - ECPv6.15.10//NONSGML v1.0//EN
CALSCALE:GREGORIAN
METHOD:PUBLISH
X-WR-CALNAME:Auric Connect
X-ORIGINAL-URL:https://auricconnect.com
X-WR-CALDESC:Events for Auric Connect
REFRESH-INTERVAL;VALUE=DURATION:PT1H
X-Robots-Tag:noindex
X-PUBLISHED-TTL:PT1H
BEGIN:VTIMEZONE
TZID:America/Los_Angeles
BEGIN:DAYLIGHT
TZOFFSETFROM:-0800
TZOFFSETTO:-0700
TZNAME:PDT
DTSTART:20230312T100000
END:DAYLIGHT
BEGIN:STANDARD
TZOFFSETFROM:-0700
TZOFFSETTO:-0800
TZNAME:PST
DTSTART:20231105T090000
END:STANDARD
BEGIN:DAYLIGHT
TZOFFSETFROM:-0800
TZOFFSETTO:-0700
TZNAME:PDT
DTSTART:20240310T100000
END:DAYLIGHT
BEGIN:STANDARD
TZOFFSETFROM:-0700
TZOFFSETTO:-0800
TZNAME:PST
DTSTART:20241103T090000
END:STANDARD
BEGIN:DAYLIGHT
TZOFFSETFROM:-0800
TZOFFSETTO:-0700
TZNAME:PDT
DTSTART:20250309T100000
END:DAYLIGHT
BEGIN:STANDARD
TZOFFSETFROM:-0700
TZOFFSETTO:-0800
TZNAME:PST
DTSTART:20251102T090000
END:STANDARD
BEGIN:DAYLIGHT
TZOFFSETFROM:-0800
TZOFFSETTO:-0700
TZNAME:PDT
DTSTART:20260308T100000
END:DAYLIGHT
BEGIN:STANDARD
TZOFFSETFROM:-0700
TZOFFSETTO:-0800
TZNAME:PST
DTSTART:20261101T090000
END:STANDARD
END:VTIMEZONE
BEGIN:VEVENT
DTSTART;VALUE=DATE:20250601
DTEND;VALUE=DATE:20250605
DTSTAMP:20260422T102819
CREATED:20250619T151432Z
LAST-MODIFIED:20250619T151432Z
UID:10000309-1748736000-1749081599@auricconnect.com
SUMMARY:Hilarity for Charity- Non profit staff retreat (Annie Penino)
DESCRIPTION:# of rooms: 12 | # of nights: 3
URL:https://auricconnect.com/event/hilarity-for-charity-non-profit-staff-retreat-annie-penino/
LOCATION:Hotel Joaquin
CATEGORIES:Hotel Joaquin
END:VEVENT
BEGIN:VEVENT
DTSTART;VALUE=DATE:20250601
DTEND;VALUE=DATE:20250602
DTSTAMP:20260422T102819
CREATED:20250617T103715Z
LAST-MODIFIED:20250617T103715Z
UID:10000177-1748736000-1748822399@auricconnect.com
SUMMARY:Art A Fair Festival - Start
DESCRIPTION:Laguna
URL:https://auricconnect.com/event/art-a-fair-festival-start/
LOCATION:Hotel Joaquin
CATEGORIES:Hotel Joaquin
END:VEVENT
BEGIN:VEVENT
DTSTART;VALUE=DATE:20250407
DTEND;VALUE=DATE:20250411
DTSTAMP:20260422T102819
CREATED:20250619T151427Z
LAST-MODIFIED:20250619T151427Z
UID:10000308-1743984000-1744329599@auricconnect.com
SUMMARY:Melanie Tsoi -group
DESCRIPTION:# of rooms: 13 | # of nights: 3
URL:https://auricconnect.com/event/melanie-tsoi-group/
LOCATION:Hotel Joaquin
CATEGORIES:Hotel Joaquin
END:VEVENT
BEGIN:VEVENT
DTSTART;VALUE=DATE:20250403
DTEND;VALUE=DATE:20250406
DTSTAMP:20260422T102819
CREATED:20250619T151420Z
LAST-MODIFIED:20250619T151420Z
UID:10000307-1743638400-1743897599@auricconnect.com
SUMMARY:Brad & Hope Wedding
DESCRIPTION:# of rooms: 22 | # of nights: 2
URL:https://auricconnect.com/event/brad-hope-wedding/
LOCATION:Hotel Joaquin
CATEGORIES:Hotel Joaquin
END:VEVENT
BEGIN:VEVENT
DTSTART;VALUE=DATE:20250313
DTEND;VALUE=DATE:20250315
DTSTAMP:20260422T102819
CREATED:20250619T151400Z
LAST-MODIFIED:20250619T151400Z
UID:10000306-1741824000-1741996799@auricconnect.com
SUMMARY:Emily Titelman -Group
DESCRIPTION:# of rooms: 12 | # of nights: 1
URL:https://auricconnect.com/event/emily-titelman-group/
LOCATION:Hotel Joaquin
CATEGORIES:Hotel Joaquin
END:VEVENT
BEGIN:VEVENT
DTSTART;VALUE=DATE:20250305
DTEND;VALUE=DATE:20250308
DTSTAMP:20260422T102819
CREATED:20250619T151354Z
LAST-MODIFIED:20250619T151354Z
UID:10000305-1741132800-1741391999@auricconnect.com
SUMMARY:Skinny Dipped -Group
DESCRIPTION:# of rooms: 5 | # of nights: 2
URL:https://auricconnect.com/event/skinny-dipped-group/
LOCATION:Hotel Joaquin
CATEGORIES:Hotel Joaquin
END:VEVENT
BEGIN:VEVENT
DTSTART;VALUE=DATE:20250228
DTEND;VALUE=DATE:20250303
DTSTAMP:20260422T102819
CREATED:20250619T151344Z
LAST-MODIFIED:20250619T151344Z
UID:10000304-1740700800-1740959999@auricconnect.com
SUMMARY:Britt & Donovan Wedding
DESCRIPTION:# of rooms: 21 | # of nights: 2
URL:https://auricconnect.com/event/britt-donovan-wedding/
LOCATION:Hotel Joaquin
CATEGORIES:Hotel Joaquin
END:VEVENT
BEGIN:VEVENT
DTSTART;VALUE=DATE:20250104
DTEND;VALUE=DATE:20250107
DTSTAMP:20260422T102819
CREATED:20250619T151319Z
LAST-MODIFIED:20250619T151319Z
UID:10000302-1735948800-1736207999@auricconnect.com
SUMMARY:Bumble Buyout
DESCRIPTION:# of rooms: 21 | # of nights: 2
URL:https://auricconnect.com/event/bumble-buyout/
LOCATION:Hotel Joaquin
CATEGORIES:Hotel Joaquin
END:VEVENT
BEGIN:VEVENT
DTSTART;VALUE=DATE:20240115
DTEND;VALUE=DATE:20250118
DTSTAMP:20260422T102819
CREATED:20250619T151329Z
LAST-MODIFIED:20250619T151329Z
UID:10000303-1705276800-1737158399@auricconnect.com
SUMMARY:Original Form Buyout
DESCRIPTION:# of rooms: 21 | # of nights: 2
URL:https://auricconnect.com/event/original-form-buyout/
LOCATION:Hotel Joaquin
CATEGORIES:Hotel Joaquin
END:VEVENT
END:VCALENDAR